BEGIN:VCALENDAR
VERSION:2.0
PRODID:-//Kingsbury Plantation - ECPv6.15.20//NONSGML v1.0//EN
CALSCALE:GREGORIAN
METHOD:PUBLISH
X-ORIGINAL-URL:https://kingsburyplantation.com
X-WR-CALDESC:Events for Kingsbury Plantation
REFRESH-INTERVAL;VALUE=DURATION:PT1H
X-Robots-Tag:noindex
X-PUBLISHED-TTL:PT1H
BEGIN:VTIMEZONE
TZID:UTC
BEGIN:STANDARD
TZOFFSETFROM:+0000
TZOFFSETTO:+0000
TZNAME:UTC
DTSTART:20230101T000000
END:STANDARD
END:VTIMEZONE
BEGIN:VEVENT
DTSTART;TZID=UTC:20240811T090000
DTEND;TZID=UTC:20240811T110000
DTSTAMP:20260423T170736
CREATED:20240807T115121Z
LAST-MODIFIED:20240807T115123Z
UID:618-1723366800-1723374000@kingsburyplantation.com
SUMMARY:Planning Board Meeting
DESCRIPTION:The Kingsbury Plantation Planning Board August Meeting will be held on August 11 at 9:00 a.m. at the Kingsbury Plantation Garage. Contact Us with questions\, to be added to the agenda\, or to request the minutes.
URL:https://kingsburyplantation.com/event/planning-board-meeting-3/
LOCATION:Kingsbury Plantation Garage\, 255 Worcester Highway\, Kingsbury Plt\, 04942\, United States
END:VEVENT
BEGIN:VEVENT
DTSTART;TZID=UTC:20240811T110000
DTEND;TZID=UTC:20240811T110000
DTSTAMP:20260423T170736
CREATED:20240807T114925Z
LAST-MODIFIED:20240807T114926Z
UID:616-1723374000-1723374000@kingsburyplantation.com
SUMMARY:Assessor's Meeting
DESCRIPTION:The Kingsbury Plantation August Assessor’s Meeting will be held at 11:00 a.m. at the Kingsbury Plantation Garage. Contact Us with questions\, to be added to the agenda\, or to request the minutes.
URL:https://kingsburyplantation.com/event/assessors-meeting-2/
LOCATION:Kingsbury Plantation Garage\, 255 Worcester Highway\, Kingsbury Plt\, 04942\, United States
END:VEVENT
END:VCALENDAR