BEGIN:VCALENDAR
VERSION:2.0
PRODID:-//Kingsbury Plantation - ECPv6.15.20//NONSGML v1.0//EN
CALSCALE:GREGORIAN
METHOD:PUBLISH
X-WR-CALNAME:Kingsbury Plantation
X-ORIGINAL-URL:https://kingsburyplantation.com
X-WR-CALDESC:Events for Kingsbury Plantation
REFRESH-INTERVAL;VALUE=DURATION:PT1H
X-Robots-Tag:noindex
X-PUBLISHED-TTL:PT1H
BEGIN:VTIMEZONE
TZID:UTC
BEGIN:STANDARD
TZOFFSETFROM:+0000
TZOFFSETTO:+0000
TZNAME:UTC
DTSTART:20230101T000000
END:STANDARD
END:VTIMEZONE
BEGIN:VEVENT
DTSTART;TZID=UTC:20240915T090000
DTEND;TZID=UTC:20240915T100000
DTSTAMP:20260423T152803
CREATED:20240911T104559Z
LAST-MODIFIED:20240911T104601Z
UID:622-1726390800-1726394400@kingsburyplantation.com
SUMMARY:Assessors Meeting
DESCRIPTION:The Kingsbury Plantation September Assessors Meeting will be held on Sunday\, September 15 at 9:00 a.m. at the Kingsbury Plantation Garage. Contact us with questions\, to be added to the agenda\, or to request the agenda or minutes.
URL:https://kingsburyplantation.com/event/assessors-meeting-3/
LOCATION:Kingsbury Plantation Garage\, 255 Worcester Highway\, Kingsbury Plt\, 04942\, United States
END:VEVENT
END:VCALENDAR