BEGIN:VCALENDAR
VERSION:2.0
PRODID:-//Kingsbury Plantation - ECPv6.15.20//NONSGML v1.0//EN
CALSCALE:GREGORIAN
METHOD:PUBLISH
X-WR-CALNAME:Kingsbury Plantation
X-ORIGINAL-URL:https://kingsburyplantation.com
X-WR-CALDESC:Events for Kingsbury Plantation
REFRESH-INTERVAL;VALUE=DURATION:PT1H
X-Robots-Tag:noindex
X-PUBLISHED-TTL:PT1H
BEGIN:VTIMEZONE
TZID:UTC
BEGIN:STANDARD
TZOFFSETFROM:+0000
TZOFFSETTO:+0000
TZNAME:UTC
DTSTART:20240101T000000
END:STANDARD
END:VTIMEZONE
BEGIN:VEVENT
DTSTART;TZID=UTC:20251123T090000
DTEND;TZID=UTC:20251123T100000
DTSTAMP:20260420T070410
CREATED:20251105T232427Z
LAST-MODIFIED:20251105T232429Z
UID:706-1763888400-1763892000@kingsburyplantation.com
SUMMARY:Kingsbury Plantation Planning Board
DESCRIPTION:The Kingsbury Plantation Planning Board Meeting will be held on November 23rd at 9:00 a.m. at the Kingsbury Plantation Garage. Contact Us for more information.
URL:https://kingsburyplantation.com/event/kingsbury-plantation-planning-board/
LOCATION:Kingsbury Plantation Garage\, 255 Worcester Highway\, Kingsbury Plt\, 04942\, United States
END:VEVENT
END:VCALENDAR