BEGIN:VCALENDAR
VERSION:2.0
PRODID:-//Kingsbury Plantation - ECPv6.15.20//NONSGML v1.0//EN
CALSCALE:GREGORIAN
METHOD:PUBLISH
X-WR-CALNAME:Kingsbury Plantation
X-ORIGINAL-URL:https://kingsburyplantation.com
X-WR-CALDESC:Events for Kingsbury Plantation
REFRESH-INTERVAL;VALUE=DURATION:PT1H
X-Robots-Tag:noindex
X-PUBLISHED-TTL:PT1H
BEGIN:VTIMEZONE
TZID:UTC
BEGIN:STANDARD
TZOFFSETFROM:+0000
TZOFFSETTO:+0000
TZNAME:UTC
DTSTART:20250101T000000
END:STANDARD
END:VTIMEZONE
BEGIN:VEVENT
DTSTART;TZID=UTC:20260105T173000
DTEND;TZID=UTC:20260105T180000
DTSTAMP:20260419T172212
CREATED:20260105T114817Z
LAST-MODIFIED:20260105T114820Z
UID:712-1767634200-1767636000@kingsburyplantation.com
SUMMARY:Kingsbury Plantation School Board Meeting
DESCRIPTION:The Kingsbury Plantation School Board is meeting on January 5th at 5:30 p.m.  Contact Us for the agenda\, minutes\, or any questions.
URL:https://kingsburyplantation.com/event/kingsbury-plantation-school-board-meeting/
END:VEVENT
END:VCALENDAR