BEGIN:VCALENDAR
VERSION:2.0
PRODID:-//Kingsbury Plantation - ECPv6.15.20//NONSGML v1.0//EN
CALSCALE:GREGORIAN
METHOD:PUBLISH
X-WR-CALNAME:Kingsbury Plantation
X-ORIGINAL-URL:https://kingsburyplantation.com
X-WR-CALDESC:Events for Kingsbury Plantation
REFRESH-INTERVAL;VALUE=DURATION:PT1H
X-Robots-Tag:noindex
X-PUBLISHED-TTL:PT1H
BEGIN:VTIMEZONE
TZID:UTC
BEGIN:STANDARD
TZOFFSETFROM:+0000
TZOFFSETTO:+0000
TZNAME:UTC
DTSTART:20250101T000000
END:STANDARD
END:VTIMEZONE
BEGIN:VEVENT
DTSTART;TZID=UTC:20260315T090000
DTEND;TZID=UTC:20260315T100000
DTSTAMP:20260419T143543
CREATED:20260307T192625Z
LAST-MODIFIED:20260307T192626Z
UID:722-1773565200-1773568800@kingsburyplantation.com
SUMMARY:Kingsbury Plantation Board of Assessors Meeting
DESCRIPTION:The Kingsbury Plantation Board of Assessors will be meeting on March 15 at 9:00 a.m. at the Kingsbury Plantation Garage\, with a Town Report session to immediately follow the Assessors Meeting. Please Contact Us for the agenda or minutes.
URL:https://kingsburyplantation.com/event/kingsbury-plantation-board-of-assessors-meeting-11/
LOCATION:Kingsbury Plantation Garage\, 255 Worcester Highway\, Kingsbury Plt\, 04942\, United States
END:VEVENT
END:VCALENDAR