BEGIN:VCALENDAR
VERSION:2.0
PRODID:-//Kingsbury Plantation - ECPv6.15.20//NONSGML v1.0//EN
CALSCALE:GREGORIAN
METHOD:PUBLISH
X-ORIGINAL-URL:https://kingsburyplantation.com
X-WR-CALDESC:Events for Kingsbury Plantation
REFRESH-INTERVAL;VALUE=DURATION:PT1H
X-Robots-Tag:noindex
X-PUBLISHED-TTL:PT1H
BEGIN:VTIMEZONE
TZID:UTC
BEGIN:STANDARD
TZOFFSETFROM:+0000
TZOFFSETTO:+0000
TZNAME:UTC
DTSTART:20250101T000000
END:STANDARD
END:VTIMEZONE
BEGIN:VEVENT
DTSTART;TZID=UTC:20260412T090000
DTEND;TZID=UTC:20260412T100000
DTSTAMP:20260419T133431
CREATED:20260408T095642Z
LAST-MODIFIED:20260408T095643Z
UID:739-1775984400-1775988000@kingsburyplantation.com
SUMMARY:Kingsbury Plantation Planning Board Meeting
DESCRIPTION:The Kingsbury Plantation Planning Board will be meeting on April 12th at 9:00 a.m. at the Kingsbury Plantation Garage. Contact us with any questions or to request the agenda or minutes.
URL:https://kingsburyplantation.com/event/kingsbury-plantation-planning-board-meeting-5/
LOCATION:Kingsbury Plantation Garage\, 255 Worcester Highway\, Kingsbury Plt\, 04942\, United States
END:VEVENT
END:VCALENDAR