BEGIN:VCALENDAR
VERSION:2.0
PRODID:-//Kingsbury Plantation - ECPv6.15.20//NONSGML v1.0//EN
CALSCALE:GREGORIAN
METHOD:PUBLISH
X-ORIGINAL-URL:https://kingsburyplantation.com
X-WR-CALDESC:Events for Kingsbury Plantation
REFRESH-INTERVAL;VALUE=DURATION:PT1H
X-Robots-Tag:noindex
X-PUBLISHED-TTL:PT1H
BEGIN:VTIMEZONE
TZID:UTC
BEGIN:STANDARD
TZOFFSETFROM:+0000
TZOFFSETTO:+0000
TZNAME:UTC
DTSTART:20230101T000000
END:STANDARD
END:VTIMEZONE
BEGIN:VEVENT
DTSTART;TZID=UTC:20240511T090000
DTEND;TZID=UTC:20240511T120000
DTSTAMP:20260423T200641
CREATED:20240505T204942Z
LAST-MODIFIED:20240505T204944Z
UID:604-1715418000-1715428800@kingsburyplantation.com
SUMMARY:Kingsbury Plantation Special Meeting
DESCRIPTION:A Special Meeting will be held on May 11\, 2024 at 9:00 a.m. at the Kingsbury Plantation Garage. Click here to view the Warrant. Contact us with questions. We hope to see you there!
URL:https://kingsburyplantation.com/event/kingsbury-plantation-special-meeting/
LOCATION:Kingsbury Plantation Garage\, 255 Worcester Highway\, Kingsbury Plt\, 04942\, United States
END:VEVENT
END:VCALENDAR