BEGIN:VCALENDAR
VERSION:2.0
PRODID:-//Kingsbury Plantation - ECPv6.15.20//NONSGML v1.0//EN
CALSCALE:GREGORIAN
METHOD:PUBLISH
X-ORIGINAL-URL:https://kingsburyplantation.com
X-WR-CALDESC:Events for Kingsbury Plantation
REFRESH-INTERVAL;VALUE=DURATION:PT1H
X-Robots-Tag:noindex
X-PUBLISHED-TTL:PT1H
BEGIN:VTIMEZONE
TZID:UTC
BEGIN:STANDARD
TZOFFSETFROM:+0000
TZOFFSETTO:+0000
TZNAME:UTC
DTSTART:20240101T000000
END:STANDARD
END:VTIMEZONE
BEGIN:VEVENT
DTSTART;TZID=UTC:20251012T090000
DTEND;TZID=UTC:20251012T100000
DTSTAMP:20260422T171121
CREATED:20250927T100154Z
LAST-MODIFIED:20250927T100155Z
UID:695-1760259600-1760263200@kingsburyplantation.com
SUMMARY:Kingsbury Plantation Planning Board Meeting
DESCRIPTION:The Kingsbury Plantation Planning Board Meeting will be held on October 12 at 9:00 a.m. Contact us with any questions or to request the agenda or minutes.
URL:https://kingsburyplantation.com/event/kingsbury-plantation-planning-board-meeting-3/
LOCATION:Kingsbury Plantation Garage\, 255 Worcester Highway\, Kingsbury Plt\, 04942\, United States
END:VEVENT
BEGIN:VEVENT
DTSTART;TZID=UTC:20251012T110000
DTEND;TZID=UTC:20251012T120000
DTSTAMP:20260422T171121
CREATED:20250927T100346Z
LAST-MODIFIED:20250927T100348Z
UID:697-1760266800-1760270400@kingsburyplantation.com
SUMMARY:Kingsbury Plantation Board of Assessors Meeting
DESCRIPTION:The Kingsbury Plantation Board of Assessors Meeting will be held on October 12 at 11:00 a.m. Contact us with any questions and to request the agenda or minutes.
URL:https://kingsburyplantation.com/event/kingsbury-plantation-board-of-assessors-meeting-8/
LOCATION:Kingsbury Plantation Garage\, 255 Worcester Highway\, Kingsbury Plt\, 04942\, United States
END:VEVENT
END:VCALENDAR